BEGIN:VCALENDAR
VERSION:2.0
PRODID:-//The Cove of Rotonda Golf Center - ECPv6.15.18//NONSGML v1.0//EN
CALSCALE:GREGORIAN
METHOD:PUBLISH
X-ORIGINAL-URL:https://www.thecoveofrotonda.com
X-WR-CALDESC:Events for The Cove of Rotonda Golf Center
REFRESH-INTERVAL;VALUE=DURATION:PT1H
X-Robots-Tag:noindex
X-PUBLISHED-TTL:PT1H
BEGIN:VTIMEZONE
TZID:America/New_York
BEGIN:DAYLIGHT
TZOFFSETFROM:-0500
TZOFFSETTO:-0400
TZNAME:EDT
DTSTART:20240310T070000
END:DAYLIGHT
BEGIN:STANDARD
TZOFFSETFROM:-0400
TZOFFSETTO:-0500
TZNAME:EST
DTSTART:20241103T060000
END:STANDARD
BEGIN:DAYLIGHT
TZOFFSETFROM:-0500
TZOFFSETTO:-0400
TZNAME:EDT
DTSTART:20250309T070000
END:DAYLIGHT
BEGIN:STANDARD
TZOFFSETFROM:-0400
TZOFFSETTO:-0500
TZNAME:EST
DTSTART:20251102T060000
END:STANDARD
BEGIN:DAYLIGHT
TZOFFSETFROM:-0500
TZOFFSETTO:-0400
TZNAME:EDT
DTSTART:20260308T070000
END:DAYLIGHT
BEGIN:STANDARD
TZOFFSETFROM:-0400
TZOFFSETTO:-0500
TZNAME:EST
DTSTART:20261101T060000
END:STANDARD
END:VTIMEZONE
BEGIN:VEVENT
DTSTART;VALUE=DATE:20251129
DTEND;VALUE=DATE:20251201
DTSTAMP:20260421T182539
CREATED:20251016T153626Z
LAST-MODIFIED:20251016T153626Z
UID:10000018-1764374400-1764547199@www.thecoveofrotonda.com
SUMMARY:2 Day 2 Person Scramble
DESCRIPTION:36 Holes \nTees: Blue – White Mixed \nGross: No Handicap \nEntry: $75/player $150 per team Cash \nTime: Tee Times 9:00 am – 10:15 am Both Days \nSign Up Sheet
URL:https://www.thecoveofrotonda.com/event/2-day-2-person-scramble-3/
END:VEVENT
END:VCALENDAR