BEGIN:VCALENDAR
VERSION:2.0
PRODID:-//The Cove of Rotonda Golf Center - ECPv6.15.18//NONSGML v1.0//EN
CALSCALE:GREGORIAN
METHOD:PUBLISH
X-ORIGINAL-URL:https://www.thecoveofrotonda.com
X-WR-CALDESC:Events for The Cove of Rotonda Golf Center
REFRESH-INTERVAL;VALUE=DURATION:PT1H
X-Robots-Tag:noindex
X-PUBLISHED-TTL:PT1H
BEGIN:VTIMEZONE
TZID:America/New_York
BEGIN:DAYLIGHT
TZOFFSETFROM:-0500
TZOFFSETTO:-0400
TZNAME:EDT
DTSTART:20240310T070000
END:DAYLIGHT
BEGIN:STANDARD
TZOFFSETFROM:-0400
TZOFFSETTO:-0500
TZNAME:EST
DTSTART:20241103T060000
END:STANDARD
BEGIN:DAYLIGHT
TZOFFSETFROM:-0500
TZOFFSETTO:-0400
TZNAME:EDT
DTSTART:20250309T070000
END:DAYLIGHT
BEGIN:STANDARD
TZOFFSETFROM:-0400
TZOFFSETTO:-0500
TZNAME:EST
DTSTART:20251102T060000
END:STANDARD
BEGIN:DAYLIGHT
TZOFFSETFROM:-0500
TZOFFSETTO:-0400
TZNAME:EDT
DTSTART:20260308T070000
END:DAYLIGHT
BEGIN:STANDARD
TZOFFSETFROM:-0400
TZOFFSETTO:-0500
TZNAME:EST
DTSTART:20261101T060000
END:STANDARD
END:VTIMEZONE
BEGIN:VEVENT
DTSTART;TZID=America/New_York:20251030T093000
DTEND;TZID=America/New_York:20251030T100000
DTSTAMP:20260421T120824
CREATED:20251016T153232Z
LAST-MODIFIED:20251016T153232Z
UID:10000016-1761816600-1761818400@www.thecoveofrotonda.com
SUMMARY:2 Lady 2 Person Scramble
DESCRIPTION:October 30th\, 2025\nTees: Green\nGross: No Handicap\nEntry: $50/Player $100 per team cash\nTee times: 9:30am – 10 am \nSign Up Sheet
URL:https://www.thecoveofrotonda.com/event/2-lady-2-person-scramble/
END:VEVENT
END:VCALENDAR